BEGIN:VCALENDAR
VERSION:2.0
PRODID:-//Golfyouup - ECPv6.7.0//NONSGML v1.0//EN
CALSCALE:GREGORIAN
METHOD:PUBLISH
X-WR-CALNAME:Golfyouup
X-ORIGINAL-URL:https://www.golfyouup.com
X-WR-CALDESC:Veranstaltungen für Golfyouup
REFRESH-INTERVAL;VALUE=DURATION:PT1H
X-Robots-Tag:noindex
X-PUBLISHED-TTL:PT1H
BEGIN:VTIMEZONE
TZID:Europe/Berlin
BEGIN:DAYLIGHT
TZOFFSETFROM:+0100
TZOFFSETTO:+0200
TZNAME:CEST
DTSTART:20240331T010000
END:DAYLIGHT
BEGIN:STANDARD
TZOFFSETFROM:+0200
TZOFFSETTO:+0100
TZNAME:CET
DTSTART:20241027T010000
END:STANDARD
END:VTIMEZONE
BEGIN:VEVENT
DTSTART;TZID=Europe/Berlin:20240419T170000
DTEND;TZID=Europe/Berlin:20240419T180000
DTSTAMP:20260423T134532
CREATED:20240113T133229Z
LAST-MODIFIED:20240113T133229Z
UID:3259-1713546000-1713549600@www.golfyouup.com
SUMMARY:Trainingsclub - Pitchen wie ein Profi
DESCRIPTION:Du hast kürzlich die Platzreife absolviert oder möchtest weiter an deinem Golfspiel arbeiten ? Dann ist der Trainingsclub genau das richtige für dich. Aufeinander aufbauende Kurstermine begleiten dich auf dem Weg zu weniger Schlägen auf dem Golfplatz.
URL:https://www.golfyouup.com/event/trainingsclub-pitchen-wie-ein-profi/
LOCATION:Practice Area / golfyouup
CATEGORIES:Event
END:VEVENT
END:VCALENDAR