BEGIN:VCALENDAR
VERSION:2.0
PRODID:-//Golfyouup - ECPv6.7.0//NONSGML v1.0//EN
CALSCALE:GREGORIAN
METHOD:PUBLISH
X-WR-CALNAME:Golfyouup
X-ORIGINAL-URL:https://www.golfyouup.com
X-WR-CALDESC:Veranstaltungen für Golfyouup
REFRESH-INTERVAL;VALUE=DURATION:PT1H
X-Robots-Tag:noindex
X-PUBLISHED-TTL:PT1H
BEGIN:VTIMEZONE
TZID:Europe/Berlin
BEGIN:DAYLIGHT
TZOFFSETFROM:+0100
TZOFFSETTO:+0200
TZNAME:CEST
DTSTART:20230326T010000
END:DAYLIGHT
BEGIN:STANDARD
TZOFFSETFROM:+0200
TZOFFSETTO:+0100
TZNAME:CET
DTSTART:20231029T010000
END:STANDARD
END:VTIMEZONE
BEGIN:VEVENT
DTSTART;TZID=Europe/Berlin:20231013T170000
DTEND;TZID=Europe/Berlin:20231013T180000
DTSTAMP:20260425T194212
CREATED:20230907T112633Z
LAST-MODIFIED:20230907T112633Z
UID:2953-1697216400-1697220000@www.golfyouup.com
SUMMARY:Trainingsclub - Eisenschläge
DESCRIPTION:Du hast kürzlich die Platzreife absolviert oder möchtest weiter an deinem Golfspiel arbeiten ? Dann ist der Trainingsclub genau das richtige für dich. Aufeinander aufbauende Kurstermine begleiten dich auf dem Weg zu weniger Schlägen auf dem Golfplatz.
URL:https://www.golfyouup.com/event/trainingsclub-eisenschlaege/
LOCATION:Practice Area / golfyouup
CATEGORIES:Event
END:VEVENT
BEGIN:VEVENT
DTSTART;TZID=Europe/Berlin:20231014T100000
DTEND;TZID=Europe/Berlin:20231014T180000
DTSTAMP:20260425T194212
CREATED:20230703T140434Z
LAST-MODIFIED:20230928T092014Z
UID:2734-1697277600-1697306400@www.golfyouup.com
SUMMARY:Golfshop Cup
DESCRIPTION:
URL:https://www.golfyouup.com/event/golfshop-cup/
LOCATION:9-Loch Platz / golfyouup
CATEGORIES:18-Loch Turnier
END:VEVENT
BEGIN:VEVENT
DTSTART;TZID=Europe/Berlin:20231020T170000
DTEND;TZID=Europe/Berlin:20231020T180000
DTSTAMP:20260425T194212
CREATED:20230907T112800Z
LAST-MODIFIED:20230907T112800Z
UID:2956-1697821200-1697824800@www.golfyouup.com
SUMMARY:Trainingsclub - Grün lesen
DESCRIPTION:Du hast kürzlich die Platzreife absolviert oder möchtest weiter an deinem Golfspiel arbeiten ? Dann ist der Trainingsclub genau das richtige für dich. Aufeinander aufbauende Kurstermine begleiten dich auf dem Weg zu weniger Schlägen auf dem Golfplatz.
URL:https://www.golfyouup.com/event/trainingsclub-gruen-lesen/
LOCATION:Practice Area / golfyouup
CATEGORIES:Event
END:VEVENT
BEGIN:VEVENT
DTSTART;TZID=Europe/Berlin:20231021T100000
DTEND;TZID=Europe/Berlin:20231021T180000
DTSTAMP:20260425T194212
CREATED:20230703T140634Z
LAST-MODIFIED:20230703T140634Z
UID:2740-1697882400-1697911200@www.golfyouup.com
SUMMARY:Oktoberfestturnier
DESCRIPTION:
URL:https://www.golfyouup.com/event/oktoberfestturnier-2/
LOCATION:9-Loch Platz / golfyouup
CATEGORIES:18-Loch Turnier
END:VEVENT
BEGIN:VEVENT
DTSTART;TZID=Europe/Berlin:20231027T150000
DTEND;TZID=Europe/Berlin:20231027T180000
DTSTAMP:20260425T194212
CREATED:20230703T140707Z
LAST-MODIFIED:20230703T140707Z
UID:2743-1698418800-1698429600@www.golfyouup.com
SUMMARY:After Work
DESCRIPTION:
URL:https://www.golfyouup.com/event/after-work-18/
LOCATION:9-Loch Platz / golfyouup
CATEGORIES:9-Loch Turnier
END:VEVENT
BEGIN:VEVENT
DTSTART;TZID=Europe/Berlin:20231027T170000
DTEND;TZID=Europe/Berlin:20231027T180000
DTSTAMP:20260425T194212
CREATED:20230907T112856Z
LAST-MODIFIED:20230907T112856Z
UID:2959-1698426000-1698429600@www.golfyouup.com
SUMMARY:Trainingsclub - Richitg ausrichten
DESCRIPTION:Du hast kürzlich die Platzreife absolviert oder möchtest weiter an deinem Golfspiel arbeiten ? Dann ist der Trainingsclub genau das richtige für dich. Aufeinander aufbauende Kurstermine begleiten dich auf dem Weg zu weniger Schlägen auf dem Golfplatz.
URL:https://www.golfyouup.com/event/trainingsclub-richitg-ausrichten/
LOCATION:Practice Area / golfyouup
CATEGORIES:Event
END:VEVENT
END:VCALENDAR