BEGIN:VCALENDAR
VERSION:2.0
PRODID:-//Golfyouup - ECPv6.7.0//NONSGML v1.0//EN
CALSCALE:GREGORIAN
METHOD:PUBLISH
X-WR-CALNAME:Golfyouup
X-ORIGINAL-URL:https://www.golfyouup.com
X-WR-CALDESC:Veranstaltungen für Golfyouup
REFRESH-INTERVAL;VALUE=DURATION:PT1H
X-Robots-Tag:noindex
X-PUBLISHED-TTL:PT1H
BEGIN:VTIMEZONE
TZID:Europe/Berlin
BEGIN:DAYLIGHT
TZOFFSETFROM:+0100
TZOFFSETTO:+0200
TZNAME:CEST
DTSTART:20230326T010000
END:DAYLIGHT
BEGIN:STANDARD
TZOFFSETFROM:+0200
TZOFFSETTO:+0100
TZNAME:CET
DTSTART:20231029T010000
END:STANDARD
END:VTIMEZONE
BEGIN:VEVENT
DTSTART;TZID=Europe/Berlin:20231103T170000
DTEND;TZID=Europe/Berlin:20231103T180000
DTSTAMP:20260425T194207
CREATED:20230907T112944Z
LAST-MODIFIED:20230907T112944Z
UID:2962-1699030800-1699034400@www.golfyouup.com
SUMMARY:Trainingsclub - Spieleröffnung
DESCRIPTION:Du hast kürzlich die Platzreife absolviert oder möchtest weiter an deinem Golfspiel arbeiten ? Dann ist der Trainingsclub genau das richtige für dich. Aufeinander aufbauende Kurstermine begleiten dich auf dem Weg zu weniger Schlägen auf dem Golfplatz.
URL:https://www.golfyouup.com/event/trainingsclub-spieleroeffnung/
LOCATION:Practice Area / golfyouup
CATEGORIES:Event
END:VEVENT
BEGIN:VEVENT
DTSTART;TZID=Europe/Berlin:20231104T100000
DTEND;TZID=Europe/Berlin:20231104T180000
DTSTAMP:20260425T194207
CREATED:20230703T140754Z
LAST-MODIFIED:20230703T140754Z
UID:2746-1699092000-1699120800@www.golfyouup.com
SUMMARY:Greenkeeper´s Rache
DESCRIPTION:
URL:https://www.golfyouup.com/event/greenkeepers-rache-2/
LOCATION:9-Loch Platz / golfyouup
CATEGORIES:9-Loch Turnier
END:VEVENT
BEGIN:VEVENT
DTSTART;TZID=Europe/Berlin:20231110T170000
DTEND;TZID=Europe/Berlin:20231110T180000
DTSTAMP:20260425T194207
CREATED:20230907T113046Z
LAST-MODIFIED:20230907T113046Z
UID:2965-1699635600-1699639200@www.golfyouup.com
SUMMARY:Trainingsclub - Scoring trainieren
DESCRIPTION:Du hast kürzlich die Platzreife absolviert oder möchtest weiter an deinem Golfspiel arbeiten ? Dann ist der Trainingsclub genau das richtige für dich. Aufeinander aufbauende Kurstermine begleiten dich auf dem Weg zu weniger Schlägen auf dem Golfplatz.
URL:https://www.golfyouup.com/event/trainingsclub-scoring-trainieren/
LOCATION:Practice Area / golfyouup
CATEGORIES:Event
END:VEVENT
BEGIN:VEVENT
DTSTART;TZID=Europe/Berlin:20231111T100000
DTEND;TZID=Europe/Berlin:20231111T170000
DTSTAMP:20260425T194207
CREATED:20230703T140848Z
LAST-MODIFIED:20230703T140848Z
UID:2749-1699696800-1699722000@www.golfyouup.com
SUMMARY:Golf&Poker
DESCRIPTION:
URL:https://www.golfyouup.com/event/golfpoker/
LOCATION:9-Loch Platz / golfyouup
CATEGORIES:9-Loch Turnier
END:VEVENT
BEGIN:VEVENT
DTSTART;TZID=Europe/Berlin:20231117T170000
DTEND;TZID=Europe/Berlin:20231117T180000
DTSTAMP:20260425T194207
CREATED:20230907T113128Z
LAST-MODIFIED:20230907T113128Z
UID:2968-1700240400-1700244000@www.golfyouup.com
SUMMARY:Trainingsclub - Equipment Check
DESCRIPTION:Du hast kürzlich die Platzreife absolviert oder möchtest weiter an deinem Golfspiel arbeiten ? Dann ist der Trainingsclub genau das richtige für dich. Aufeinander aufbauende Kurstermine begleiten dich auf dem Weg zu weniger Schlägen auf dem Golfplatz.
URL:https://www.golfyouup.com/event/trainingsclub-equipment-check/
LOCATION:Practice Area / golfyouup
CATEGORIES:Event
END:VEVENT
BEGIN:VEVENT
DTSTART;TZID=Europe/Berlin:20231118T100000
DTEND;TZID=Europe/Berlin:20231118T180000
DTSTAMP:20260425T194207
CREATED:20230703T140922Z
LAST-MODIFIED:20230703T140922Z
UID:2752-1700301600-1700330400@www.golfyouup.com
SUMMARY:Last chance
DESCRIPTION:
URL:https://www.golfyouup.com/event/last-chance-2/
LOCATION:9-Loch Platz / golfyouup
CATEGORIES:9-Loch Turnier
END:VEVENT
BEGIN:VEVENT
DTSTART;TZID=Europe/Berlin:20231124T170000
DTEND;TZID=Europe/Berlin:20231124T180000
DTSTAMP:20260425T194207
CREATED:20230907T113216Z
LAST-MODIFIED:20230907T113216Z
UID:2971-1700845200-1700848800@www.golfyouup.com
SUMMARY:Trainingsclub - Schlaglängen messen
DESCRIPTION:Du hast kürzlich die Platzreife absolviert oder möchtest weiter an deinem Golfspiel arbeiten ? Dann ist der Trainingsclub genau das richtige für dich. Aufeinander aufbauende Kurstermine begleiten dich auf dem Weg zu weniger Schlägen auf dem Golfplatz.
URL:https://www.golfyouup.com/event/trainingsclub-schlaglaengen-messen/
LOCATION:Practice Area / golfyouup
CATEGORIES:Event
END:VEVENT
BEGIN:VEVENT
DTSTART;TZID=Europe/Berlin:20231126T150000
DTEND;TZID=Europe/Berlin:20231126T180000
DTSTAMP:20260425T194207
CREATED:20230703T140954Z
LAST-MODIFIED:20230703T140954Z
UID:2755-1701010800-1701021600@www.golfyouup.com
SUMMARY:Adventskaffee
DESCRIPTION:
URL:https://www.golfyouup.com/event/adventskaffee-2/
LOCATION:Cafe Green / golfyouup
CATEGORIES:Event
END:VEVENT
END:VCALENDAR