BEGIN:VCALENDAR
VERSION:2.0
PRODID:-//Golfyouup - ECPv6.7.0//NONSGML v1.0//EN
CALSCALE:GREGORIAN
METHOD:PUBLISH
X-WR-CALNAME:Golfyouup
X-ORIGINAL-URL:https://www.golfyouup.com
X-WR-CALDESC:Veranstaltungen für Golfyouup
REFRESH-INTERVAL;VALUE=DURATION:PT1H
X-Robots-Tag:noindex
X-PUBLISHED-TTL:PT1H
BEGIN:VTIMEZONE
TZID:Europe/Berlin
BEGIN:DAYLIGHT
TZOFFSETFROM:+0100
TZOFFSETTO:+0200
TZNAME:CEST
DTSTART:20240331T010000
END:DAYLIGHT
BEGIN:STANDARD
TZOFFSETFROM:+0200
TZOFFSETTO:+0100
TZNAME:CET
DTSTART:20241027T010000
END:STANDARD
END:VTIMEZONE
BEGIN:VEVENT
DTSTART;TZID=Europe/Berlin:20240501T100000
DTEND;TZID=Europe/Berlin:20240501T170000
DTSTAMP:20260425T142211
CREATED:20240318T142948Z
LAST-MODIFIED:20240318T142948Z
UID:3506-1714557600-1714582800@www.golfyouup.com
SUMMARY:Bockbier Cup
DESCRIPTION:
URL:https://www.golfyouup.com/event/bockbier-cup-3/
LOCATION:9-Loch Platz / golfyouup
CATEGORIES:18-Loch Turnier
END:VEVENT
BEGIN:VEVENT
DTSTART;TZID=Europe/Berlin:20240503T170000
DTEND;TZID=Europe/Berlin:20240503T180000
DTSTAMP:20260425T142212
CREATED:20240113T133444Z
LAST-MODIFIED:20240113T133444Z
UID:3265-1714755600-1714759200@www.golfyouup.com
SUMMARY:Trainingsclub - kontrolliertes Chippen
DESCRIPTION:Du hast kürzlich die Platzreife absolviert oder möchtest weiter an deinem Golfspiel arbeiten ? Dann ist der Trainingsclub genau das richtige für dich. Aufeinander aufbauende Kurstermine begleiten dich auf dem Weg zu weniger Schlägen auf dem Golfplatz.
URL:https://www.golfyouup.com/event/trainingsclub-kontrolliertes-chippen/
LOCATION:Practice Area / golfyouup
CATEGORIES:Event
END:VEVENT
BEGIN:VEVENT
DTSTART;TZID=Europe/Berlin:20240504T100000
DTEND;TZID=Europe/Berlin:20240504T170000
DTSTAMP:20260425T142212
CREATED:20240318T143047Z
LAST-MODIFIED:20240405T092145Z
UID:3509-1714816800-1714842000@www.golfyouup.com
SUMMARY:Members&Friends
DESCRIPTION:
URL:https://www.golfyouup.com/event/membersfriends-4/
LOCATION:9-Loch Platz / golfyouup
CATEGORIES:9-Loch Turnier,Event
END:VEVENT
BEGIN:VEVENT
DTSTART;TZID=Europe/Berlin:20240510T170000
DTEND;TZID=Europe/Berlin:20240510T180000
DTSTAMP:20260425T142212
CREATED:20240113T133608Z
LAST-MODIFIED:20240113T133608Z
UID:3268-1715360400-1715364000@www.golfyouup.com
SUMMARY:Trainingsclub - Putten - Grün richtig lesen
DESCRIPTION:Du hast kürzlich die Platzreife absolviert oder möchtest weiter an deinem Golfspiel arbeiten ? Dann ist der Trainingsclub genau das richtige für dich. Aufeinander aufbauende Kurstermine begleiten dich auf dem Weg zu weniger Schlägen auf dem Golfplatz.
URL:https://www.golfyouup.com/event/trainingsclub-putten-gruen-richtig-lesen/
LOCATION:Practice Area / golfyouup
CATEGORIES:Event
END:VEVENT
BEGIN:VEVENT
DTSTART;TZID=Europe/Berlin:20240511T100000
DTEND;TZID=Europe/Berlin:20240511T150000
DTSTAMP:20260425T142212
CREATED:20240318T143139Z
LAST-MODIFIED:20240325T122048Z
UID:3512-1715421600-1715439600@www.golfyouup.com
SUMMARY:Volksbank pur Cup
DESCRIPTION:Mit freundlicher Unterstützung der
URL:https://www.golfyouup.com/event/volksbank-cup-2/
LOCATION:9-Loch Platz / golfyouup
CATEGORIES:18-Loch Turnier
ATTACH;FMTTYPE=image/png:https://www.golfyouup.com/wp-content/uploads/2024/03/Weblogo_VB_pur_rgb_links-1-e1711369131635.png
END:VEVENT
BEGIN:VEVENT
DTSTART;TZID=Europe/Berlin:20240515T150000
DTEND;TZID=Europe/Berlin:20240515T180000
DTSTAMP:20260425T142212
CREATED:20240405T091556Z
LAST-MODIFIED:20240405T091556Z
UID:3638-1715785200-1715796000@www.golfyouup.com
SUMMARY:After Work
DESCRIPTION:
URL:https://www.golfyouup.com/event/after-work-25/
LOCATION:9-Loch Platz / golfyouup
CATEGORIES:9-Loch Turnier
END:VEVENT
BEGIN:VEVENT
DTSTART;TZID=Europe/Berlin:20240517T170000
DTEND;TZID=Europe/Berlin:20240517T180000
DTSTAMP:20260425T142212
CREATED:20240113T133725Z
LAST-MODIFIED:20240113T133725Z
UID:3271-1715965200-1715968800@www.golfyouup.com
SUMMARY:Trainingsclub - Putten -Längenkontrolle
DESCRIPTION:Du hast kürzlich die Platzreife absolviert oder möchtest weiter an deinem Golfspiel arbeiten ? Dann ist der Trainingsclub genau das richtige für dich. Aufeinander aufbauende Kurstermine begleiten dich auf dem Weg zu weniger Schlägen auf dem Golfplatz.
URL:https://www.golfyouup.com/event/trainingsclub-putten-laengenkontrolle/
LOCATION:Practice Area / golfyouup
CATEGORIES:Event
END:VEVENT
BEGIN:VEVENT
DTSTART;TZID=Europe/Berlin:20240519T140000
DTEND;TZID=Europe/Berlin:20240519T160000
DTSTAMP:20260425T142212
CREATED:20240113T142507Z
LAST-MODIFIED:20240513T131810Z
UID:3331-1716127200-1716134400@www.golfyouup.com
SUMMARY:Schnupperkurs
DESCRIPTION:Du wolltest schon immer mal in die Golfwelt rein schnuppern. Dann bist du bei uns genau richtig. Lustig und unkompliziert werden dir die verschiedenen Golfbereiche näher gebracht. \nMelde dich direkt über unseren Onlineshop an (Wunschtermin angeben nicht vergessen!) oder schreibe uns eine Email an: info@golfyouup.de.
URL:https://www.golfyouup.com/event/schnupperkurs-15/
LOCATION:Practice Area / golfyouup
CATEGORIES:Event
END:VEVENT
BEGIN:VEVENT
DTSTART;TZID=Europe/Berlin:20240524T150000
DTEND;TZID=Europe/Berlin:20240524T180000
DTSTAMP:20260425T142212
CREATED:20240318T143220Z
LAST-MODIFIED:20240507T140301Z
UID:3515-1716562800-1716573600@www.golfyouup.com
SUMMARY:#JustBEEthere
DESCRIPTION:9-Loch Turnier in der Deutschen Bienenwoche. \nJetzt anmelden ->Turnieranmeldung
URL:https://www.golfyouup.com/event/after-work-20/
LOCATION:9-Loch Platz / golfyouup
CATEGORIES:9-Loch Turnier
END:VEVENT
BEGIN:VEVENT
DTSTART;TZID=Europe/Berlin:20240524T170000
DTEND;TZID=Europe/Berlin:20240524T180000
DTSTAMP:20260425T142212
CREATED:20240113T133820Z
LAST-MODIFIED:20240113T133820Z
UID:3274-1716570000-1716573600@www.golfyouup.com
SUMMARY:Trainingsclub - Hanglagen
DESCRIPTION:Du hast kürzlich die Platzreife absolviert oder möchtest weiter an deinem Golfspiel arbeiten ? Dann ist der Trainingsclub genau das richtige für dich. Aufeinander aufbauende Kurstermine begleiten dich auf dem Weg zu weniger Schlägen auf dem Golfplatz.
URL:https://www.golfyouup.com/event/trainingsclub-hanglagen/
LOCATION:Practice Area / golfyouup
CATEGORIES:Event
END:VEVENT
BEGIN:VEVENT
DTSTART;TZID=Europe/Berlin:20240531T170000
DTEND;TZID=Europe/Berlin:20240531T180000
DTSTAMP:20260425T142212
CREATED:20240113T133927Z
LAST-MODIFIED:20240113T133927Z
UID:3277-1717174800-1717178400@www.golfyouup.com
SUMMARY:Trainingsclub - Annäherungen ans Grün (Kurzplatz)
DESCRIPTION:Du hast kürzlich die Platzreife absolviert oder möchtest weiter an deinem Golfspiel arbeiten ? Dann ist der Trainingsclub genau das richtige für dich. Aufeinander aufbauende Kurstermine begleiten dich auf dem Weg zu weniger Schlägen auf dem Golfplatz.
URL:https://www.golfyouup.com/event/trainingsclub-annaeherungen-ans-gruen-kurzplatz/
LOCATION:Practice Area / golfyouup
CATEGORIES:Event
END:VEVENT
END:VCALENDAR