BEGIN:VCALENDAR
VERSION:2.0
PRODID:-//Golfyouup - ECPv6.7.0//NONSGML v1.0//EN
CALSCALE:GREGORIAN
METHOD:PUBLISH
X-WR-CALNAME:Golfyouup
X-ORIGINAL-URL:https://www.golfyouup.com
X-WR-CALDESC:Veranstaltungen für Golfyouup
REFRESH-INTERVAL;VALUE=DURATION:PT1H
X-Robots-Tag:noindex
X-PUBLISHED-TTL:PT1H
BEGIN:VTIMEZONE
TZID:Europe/Berlin
BEGIN:DAYLIGHT
TZOFFSETFROM:+0100
TZOFFSETTO:+0200
TZNAME:CEST
DTSTART:20240331T010000
END:DAYLIGHT
BEGIN:STANDARD
TZOFFSETFROM:+0200
TZOFFSETTO:+0100
TZNAME:CET
DTSTART:20241027T010000
END:STANDARD
END:VTIMEZONE
BEGIN:VEVENT
DTSTART;TZID=Europe/Berlin:20240407T140000
DTEND;TZID=Europe/Berlin:20240407T160000
DTSTAMP:20260425T143821
CREATED:20240113T142252Z
LAST-MODIFIED:20240113T142252Z
UID:3325-1712498400-1712505600@www.golfyouup.com
SUMMARY:Schnupperkurs
DESCRIPTION:Du wolltest schon immer mal in die Golfwelt rein schnuppern. Dann bist du bei uns genau richtig. Lustig und unkompliziert werden dir die verschiedenen Golfbereiche näher gebracht.
URL:https://www.golfyouup.com/event/schnupperkurs-2/
LOCATION:Practice Area / golfyouup
CATEGORIES:Event
END:VEVENT
BEGIN:VEVENT
DTSTART;TZID=Europe/Berlin:20240411T150000
DTEND;TZID=Europe/Berlin:20240411T180000
DTSTAMP:20260425T143821
CREATED:20240318T142711Z
LAST-MODIFIED:20240318T142711Z
UID:3500-1712847600-1712858400@www.golfyouup.com
SUMMARY:After Work
DESCRIPTION:
URL:https://www.golfyouup.com/event/after-work-19/
LOCATION:9-Loch Platz / golfyouup
CATEGORIES:9-Loch Turnier
END:VEVENT
BEGIN:VEVENT
DTSTART;TZID=Europe/Berlin:20240421T140000
DTEND;TZID=Europe/Berlin:20240421T160000
DTSTAMP:20260425T143821
CREATED:20240113T142419Z
LAST-MODIFIED:20240113T142419Z
UID:3328-1713708000-1713715200@www.golfyouup.com
SUMMARY:Schnupperkurs
DESCRIPTION:Du wolltest schon immer mal in die Golfwelt rein schnuppern. Dann bist du bei uns genau richtig. Lustig und unkompliziert werden dir die verschiedenen Golfbereiche näher gebracht.
URL:https://www.golfyouup.com/event/schnupperkurs-14/
LOCATION:Practice Area / golfyouup
CATEGORIES:Event
END:VEVENT
BEGIN:VEVENT
DTSTART;TZID=Europe/Berlin:20240427T100000
DTEND;TZID=Europe/Berlin:20240427T160000
DTSTAMP:20260425T143821
CREATED:20240318T144551Z
LAST-MODIFIED:20240325T132035Z
UID:3560-1714212000-1714233600@www.golfyouup.com
SUMMARY:Vierermeisterschaft
DESCRIPTION:
URL:https://www.golfyouup.com/event/xxx-18-loch/
LOCATION:9-Loch Platz / golfyouup
CATEGORIES:18-Loch Turnier
END:VEVENT
END:VCALENDAR