BEGIN:VCALENDAR
VERSION:2.0
PRODID:-//Golfyouup - ECPv6.7.0//NONSGML v1.0//EN
CALSCALE:GREGORIAN
METHOD:PUBLISH
X-WR-CALNAME:Golfyouup
X-ORIGINAL-URL:https://www.golfyouup.com
X-WR-CALDESC:Veranstaltungen für Golfyouup
REFRESH-INTERVAL;VALUE=DURATION:PT1H
X-Robots-Tag:noindex
X-PUBLISHED-TTL:PT1H
BEGIN:VTIMEZONE
TZID:Europe/Berlin
BEGIN:DAYLIGHT
TZOFFSETFROM:+0100
TZOFFSETTO:+0200
TZNAME:CEST
DTSTART:20240331T010000
END:DAYLIGHT
BEGIN:STANDARD
TZOFFSETFROM:+0200
TZOFFSETTO:+0100
TZNAME:CET
DTSTART:20241027T010000
END:STANDARD
END:VTIMEZONE
BEGIN:VEVENT
DTSTART;TZID=Europe/Berlin:20240831T080000
DTEND;TZID=Europe/Berlin:20240901T180000
DTSTAMP:20260421T160619
CREATED:20240318T144018Z
LAST-MODIFIED:20240318T144018Z
UID:3539-1725091200-1725213600@www.golfyouup.com
SUMMARY:Meisterschaften 2024
DESCRIPTION:
URL:https://www.golfyouup.com/event/meisterschaften-2024/
LOCATION:9-Loch Platz / golfyouup
CATEGORIES:18-Loch Turnier
END:VEVENT
BEGIN:VEVENT
DTSTART;TZID=Europe/Berlin:20240906T150000
DTEND;TZID=Europe/Berlin:20240906T180000
DTSTAMP:20260421T160619
CREATED:20240405T092310Z
LAST-MODIFIED:20240524T124607Z
UID:3652-1725634800-1725645600@www.golfyouup.com
SUMMARY:Ltur
DESCRIPTION:-> zum Turnier anmelden
URL:https://www.golfyouup.com/event/ltur-2/
LOCATION:9-Loch Platz / golfyouup
CATEGORIES:9-Loch Turnier
END:VEVENT
BEGIN:VEVENT
DTSTART;TZID=Europe/Berlin:20240911T160000
DTEND;TZID=Europe/Berlin:20240911T180000
DTSTAMP:20260421T160619
CREATED:20240318T144058Z
LAST-MODIFIED:20240405T092233Z
UID:3542-1726070400-1726077600@www.golfyouup.com
SUMMARY:After Work
DESCRIPTION:
URL:https://www.golfyouup.com/event/after-work-23/
LOCATION:9-Loch Platz / golfyouup
CATEGORIES:9-Loch Turnier
END:VEVENT
BEGIN:VEVENT
DTSTART;TZID=Europe/Berlin:20240921T090000
DTEND;TZID=Europe/Berlin:20240921T180000
DTSTAMP:20260421T160619
CREATED:20240318T144148Z
LAST-MODIFIED:20240524T124729Z
UID:3545-1726909200-1726941600@www.golfyouup.com
SUMMARY:Finale Ltur
DESCRIPTION:-> hier geht’s zur Anmeldung!
URL:https://www.golfyouup.com/event/18-lochturnier/
LOCATION:9-Loch Platz / golfyouup
CATEGORIES:18-Loch Turnier
END:VEVENT
BEGIN:VEVENT
DTSTART;TZID=Europe/Berlin:20240922T140000
DTEND;TZID=Europe/Berlin:20240922T160000
DTSTAMP:20260421T160619
CREATED:20240113T143024Z
LAST-MODIFIED:20240513T131459Z
UID:3352-1727013600-1727020800@www.golfyouup.com
SUMMARY:Schnupperkurs
DESCRIPTION:Du wolltest schon immer mal in die Golfwelt rein schnuppern. Dann bist du bei uns genau richtig. Lustig und unkompliziert werden dir die verschiedenen Golfbereiche näher gebracht. \nMelde dich direkt über unseren Onlineshop an (Wunschtermin angeben nicht vergessen!) oder schreibe uns eine Email an: info@golfyouup.de.
URL:https://www.golfyouup.com/event/schnupperkurs-22/
LOCATION:Practice Area / golfyouup
CATEGORIES:Event
END:VEVENT
BEGIN:VEVENT
DTSTART;TZID=Europe/Berlin:20240928T100000
DTEND;TZID=Europe/Berlin:20240928T170000
DTSTAMP:20260421T160619
CREATED:20240318T144251Z
LAST-MODIFIED:20240524T135447Z
UID:3548-1727517600-1727542800@www.golfyouup.com
SUMMARY:Café Green Cup
DESCRIPTION:-> Jetzt hier anmelden!
URL:https://www.golfyouup.com/event/cafe-green-cup-2/
LOCATION:9-Loch Platz / golfyouup
CATEGORIES:9-Loch Turnier
END:VEVENT
END:VCALENDAR