BEGIN:VCALENDAR
VERSION:2.0
PRODID:-//Golfyouup - ECPv6.7.0//NONSGML v1.0//EN
CALSCALE:GREGORIAN
METHOD:PUBLISH
X-WR-CALNAME:Golfyouup
X-ORIGINAL-URL:https://www.golfyouup.com
X-WR-CALDESC:Veranstaltungen für Golfyouup
REFRESH-INTERVAL;VALUE=DURATION:PT1H
X-Robots-Tag:noindex
X-PUBLISHED-TTL:PT1H
BEGIN:VTIMEZONE
TZID:Europe/Berlin
BEGIN:DAYLIGHT
TZOFFSETFROM:+0100
TZOFFSETTO:+0200
TZNAME:CEST
DTSTART:20240331T010000
END:DAYLIGHT
BEGIN:STANDARD
TZOFFSETFROM:+0200
TZOFFSETTO:+0100
TZNAME:CET
DTSTART:20241027T010000
END:STANDARD
END:VTIMEZONE
BEGIN:VEVENT
DTSTART;TZID=Europe/Berlin:20240202T170000
DTEND;TZID=Europe/Berlin:20240202T180000
DTSTAMP:20260422T171029
CREATED:20240113T134932Z
LAST-MODIFIED:20240113T135033Z
UID:3292-1706893200-1706896800@www.golfyouup.com
SUMMARY:Trainingskurs - FITFÜR den Sommer
DESCRIPTION:Werde FITFÜR den Sommer!
URL:https://www.golfyouup.com/event/fitfuer-den-sommer-3/
LOCATION:Practice Area / golfyouup
CATEGORIES:Event
END:VEVENT
BEGIN:VEVENT
DTSTART;TZID=Europe/Berlin:20240209T170000
DTEND;TZID=Europe/Berlin:20240209T180000
DTSTAMP:20260422T171029
CREATED:20240113T135321Z
LAST-MODIFIED:20240113T135321Z
UID:3301-1707498000-1707501600@www.golfyouup.com
SUMMARY:Trainingskurs - FITFÜR den Sommer
DESCRIPTION:Werde FITFÜR den Sommer!
URL:https://www.golfyouup.com/event/trainingskurs-fitfuer-den-sommer/
LOCATION:Practice Area / golfyouup
CATEGORIES:Event
END:VEVENT
BEGIN:VEVENT
DTSTART;TZID=Europe/Berlin:20240216T170000
DTEND;TZID=Europe/Berlin:20240216T180000
DTSTAMP:20260422T171029
CREATED:20240113T135418Z
LAST-MODIFIED:20240113T135418Z
UID:3304-1708102800-1708106400@www.golfyouup.com
SUMMARY:Trainingskurs - FITFÜR den Sommer
DESCRIPTION:Werde FITFÜR den Sommer!
URL:https://www.golfyouup.com/event/trainingskurs-fitfuer-den-sommer-2/
LOCATION:Practice Area / golfyouup
CATEGORIES:Event
END:VEVENT
BEGIN:VEVENT
DTSTART;TZID=Europe/Berlin:20240223T170000
DTEND;TZID=Europe/Berlin:20240223T180000
DTSTAMP:20260422T171029
CREATED:20240113T135515Z
LAST-MODIFIED:20240113T135515Z
UID:3307-1708707600-1708711200@www.golfyouup.com
SUMMARY:Trainingskurs - FITFÜR den Sommer
DESCRIPTION:Werde FITFÜR den Sommer!
URL:https://www.golfyouup.com/event/trainingskurs-fitfuer-den-sommer-3/
LOCATION:Practice Area / golfyouup
CATEGORIES:Event
END:VEVENT
END:VCALENDAR