BEGIN:VCALENDAR
VERSION:2.0
PRODID:-//Golfyouup - ECPv6.7.0//NONSGML v1.0//EN
CALSCALE:GREGORIAN
METHOD:PUBLISH
X-ORIGINAL-URL:https://www.golfyouup.com
X-WR-CALDESC:Veranstaltungen für Golfyouup
REFRESH-INTERVAL;VALUE=DURATION:PT1H
X-Robots-Tag:noindex
X-PUBLISHED-TTL:PT1H
BEGIN:VTIMEZONE
TZID:Europe/Berlin
BEGIN:DAYLIGHT
TZOFFSETFROM:+0100
TZOFFSETTO:+0200
TZNAME:CEST
DTSTART:20240331T010000
END:DAYLIGHT
BEGIN:STANDARD
TZOFFSETFROM:+0200
TZOFFSETTO:+0100
TZNAME:CET
DTSTART:20241027T010000
END:STANDARD
END:VTIMEZONE
BEGIN:VEVENT
DTSTART;TZID=Europe/Berlin:20240602T140000
DTEND;TZID=Europe/Berlin:20240602T160000
DTSTAMP:20260422T105650
CREATED:20240113T142550Z
LAST-MODIFIED:20240513T131733Z
UID:3334-1717336800-1717344000@www.golfyouup.com
SUMMARY:Schnupperkurs
DESCRIPTION:Du wolltest schon immer mal in die Golfwelt rein schnuppern. Dann bist du bei uns genau richtig. Lustig und unkompliziert werden dir die verschiedenen Golfbereiche näher gebracht. \nMelde dich direkt über unseren Onlineshop an (Wunschtermin angeben nicht vergessen!) oder schreibe uns eine Email an: info@golfyouup.de.
URL:https://www.golfyouup.com/event/schnupperkurs-16/
LOCATION:Practice Area / golfyouup
CATEGORIES:Event
END:VEVENT
BEGIN:VEVENT
DTSTART;TZID=Europe/Berlin:20240607T170000
DTEND;TZID=Europe/Berlin:20240607T180000
DTSTAMP:20260422T105650
CREATED:20240113T134035Z
LAST-MODIFIED:20240113T134035Z
UID:3280-1717779600-1717783200@www.golfyouup.com
SUMMARY:Trainingsclub - Das Spiel auf dem Platz (max. 4 Personen)
DESCRIPTION:Du hast kürzlich die Platzreife absolviert oder möchtest weiter an deinem Golfspiel arbeiten ? Dann ist der Trainingsclub genau das richtige für dich. Aufeinander aufbauende Kurstermine begleiten dich auf dem Weg zu weniger Schlägen auf dem Golfplatz.
URL:https://www.golfyouup.com/event/trainingsclub-das-spiel-auf-dem-platz-max-4-personen/
LOCATION:9-Loch Platz / golfyouup
CATEGORIES:Event
END:VEVENT
BEGIN:VEVENT
DTSTART;VALUE=DATE:20240614
DTEND;VALUE=DATE:20240617
DTSTAMP:20260422T105650
CREATED:20240113T134312Z
LAST-MODIFIED:20240113T134312Z
UID:3283-1718323200-1718582399@www.golfyouup.com
SUMMARY:Golfwoche - Intensivkurs über 3 Tage
DESCRIPTION:Golfwoche – Golfintensivkurs über 3 Tage
URL:https://www.golfyouup.com/event/golfwoche-intensivkurs-ueber-3-tage/
LOCATION:Practice Area / golfyouup
CATEGORIES:Event
END:VEVENT
BEGIN:VEVENT
DTSTART;TZID=Europe/Berlin:20240630T140000
DTEND;TZID=Europe/Berlin:20240630T160000
DTSTAMP:20260422T105650
CREATED:20240113T142647Z
LAST-MODIFIED:20240513T131706Z
UID:3337-1719756000-1719763200@www.golfyouup.com
SUMMARY:Schnupperkurs
DESCRIPTION:Du wolltest schon immer mal in die Golfwelt rein schnuppern. Dann bist du bei uns genau richtig. Lustig und unkompliziert werden dir die verschiedenen Golfbereiche näher gebracht. \nMelde dich direkt über unseren Onlineshop an (Wunschtermin angeben nicht vergessen!) oder schreibe uns eine Email an: info@golfyouup.de.
URL:https://www.golfyouup.com/event/schnupperkurs-17/
LOCATION:Practice Area / golfyouup
CATEGORIES:Event
END:VEVENT
END:VCALENDAR