BEGIN:VCALENDAR
VERSION:2.0
PRODID:-//Golfyouup - ECPv6.7.0//NONSGML v1.0//EN
CALSCALE:GREGORIAN
METHOD:PUBLISH
X-ORIGINAL-URL:https://www.golfyouup.com
X-WR-CALDESC:Veranstaltungen für Golfyouup
REFRESH-INTERVAL;VALUE=DURATION:PT1H
X-Robots-Tag:noindex
X-PUBLISHED-TTL:PT1H
BEGIN:VTIMEZONE
TZID:Europe/Berlin
BEGIN:DAYLIGHT
TZOFFSETFROM:+0100
TZOFFSETTO:+0200
TZNAME:CEST
DTSTART:20240331T010000
END:DAYLIGHT
BEGIN:STANDARD
TZOFFSETFROM:+0200
TZOFFSETTO:+0100
TZNAME:CET
DTSTART:20241027T010000
END:STANDARD
END:VTIMEZONE
BEGIN:VEVENT
DTSTART;TZID=Europe/Berlin:20240713T180000
DTEND;TZID=Europe/Berlin:20240713T200000
DTSTAMP:20260420T091538
CREATED:20240113T142732Z
LAST-MODIFIED:20240530T132830Z
UID:3340-1720893600-1720900800@www.golfyouup.com
SUMMARY:Schnupperkurs
DESCRIPTION:Du wolltest schon immer mal in die Golfwelt rein schnuppern. Dann bist du bei uns genau richtig. Lustig und unkompliziert werden dir die verschiedenen Golfbereiche näher gebracht. \nMelde dich direkt über unseren Onlineshop an (Wunschtermin angeben nicht vergessen!) oder schreibe uns eine Email an: info@golfyouup.de.
URL:https://www.golfyouup.com/event/schnupperkurs-18/
LOCATION:Practice Area / golfyouup
CATEGORIES:Event
END:VEVENT
BEGIN:VEVENT
DTSTART;TZID=Europe/Berlin:20240728T080000
DTEND;TZID=Europe/Berlin:20240728T170000
DTSTAMP:20260420T091538
CREATED:20240113T142818Z
LAST-MODIFIED:20240513T131619Z
UID:3343-1722153600-1722186000@www.golfyouup.com
SUMMARY:Schnupperkurs
DESCRIPTION:Du wolltest schon immer mal in die Golfwelt rein schnuppern. Dann bist du bei uns genau richtig. Lustig und unkompliziert werden dir die verschiedenen Golfbereiche näher gebracht. \nMelde dich direkt über unseren Onlineshop an (Wunschtermin angeben nicht vergessen!) oder schreibe uns eine Email an: info@golfyouup.de.
URL:https://www.golfyouup.com/event/schnupperkurs-19/
LOCATION:Practice Area / golfyouup
CATEGORIES:Event
END:VEVENT
END:VCALENDAR