BEGIN:VCALENDAR
VERSION:2.0
PRODID:-//Golfyouup - ECPv6.7.0//NONSGML v1.0//EN
CALSCALE:GREGORIAN
METHOD:PUBLISH
X-ORIGINAL-URL:https://www.golfyouup.com
X-WR-CALDESC:Veranstaltungen für Golfyouup
REFRESH-INTERVAL;VALUE=DURATION:PT1H
X-Robots-Tag:noindex
X-PUBLISHED-TTL:PT1H
BEGIN:VTIMEZONE
TZID:Europe/Berlin
BEGIN:DAYLIGHT
TZOFFSETFROM:+0100
TZOFFSETTO:+0200
TZNAME:CEST
DTSTART:20240331T010000
END:DAYLIGHT
BEGIN:STANDARD
TZOFFSETFROM:+0200
TZOFFSETTO:+0100
TZNAME:CET
DTSTART:20241027T010000
END:STANDARD
END:VTIMEZONE
BEGIN:VEVENT
DTSTART;TZID=Europe/Berlin:20240811T140000
DTEND;TZID=Europe/Berlin:20240811T160000
DTSTAMP:20260420T075504
CREATED:20240113T142904Z
LAST-MODIFIED:20240513T131556Z
UID:3346-1723384800-1723392000@www.golfyouup.com
SUMMARY:Schnupperkurs
DESCRIPTION:Du wolltest schon immer mal in die Golfwelt rein schnuppern. Dann bist du bei uns genau richtig. Lustig und unkompliziert werden dir die verschiedenen Golfbereiche näher gebracht. \nMelde dich direkt über unseren Onlineshop an (Wunschtermin angeben nicht vergessen!) oder schreibe uns eine Email an: info@golfyouup.de.
URL:https://www.golfyouup.com/event/schnupperkurs-20/
LOCATION:Practice Area / golfyouup
CATEGORIES:Event
END:VEVENT
BEGIN:VEVENT
DTSTART;TZID=Europe/Berlin:20240825T140000
DTEND;TZID=Europe/Berlin:20240825T160000
DTSTAMP:20260420T075504
CREATED:20240113T142944Z
LAST-MODIFIED:20240513T131525Z
UID:3349-1724594400-1724601600@www.golfyouup.com
SUMMARY:Schnupperkurs
DESCRIPTION:Du wolltest schon immer mal in die Golfwelt rein schnuppern. Dann bist du bei uns genau richtig. Lustig und unkompliziert werden dir die verschiedenen Golfbereiche näher gebracht. \nMelde dich direkt über unseren Onlineshop an (Wunschtermin angeben nicht vergessen!) oder schreibe uns eine Email an: info@golfyouup.de.
URL:https://www.golfyouup.com/event/schnupperkurs-21/
LOCATION:Practice Area / golfyouup
CATEGORIES:Event
END:VEVENT
END:VCALENDAR