BEGIN:VCALENDAR
VERSION:2.0
PRODID:-//Golfyouup - ECPv6.7.0//NONSGML v1.0//EN
CALSCALE:GREGORIAN
METHOD:PUBLISH
X-WR-CALNAME:Golfyouup
X-ORIGINAL-URL:https://www.golfyouup.com
X-WR-CALDESC:Veranstaltungen für Golfyouup
REFRESH-INTERVAL;VALUE=DURATION:PT1H
X-Robots-Tag:noindex
X-PUBLISHED-TTL:PT1H
BEGIN:VTIMEZONE
TZID:Europe/Berlin
BEGIN:DAYLIGHT
TZOFFSETFROM:+0100
TZOFFSETTO:+0200
TZNAME:CEST
DTSTART:20240331T010000
END:DAYLIGHT
BEGIN:STANDARD
TZOFFSETFROM:+0200
TZOFFSETTO:+0100
TZNAME:CET
DTSTART:20241027T010000
END:STANDARD
END:VTIMEZONE
BEGIN:VEVENT
DTSTART;TZID=Europe/Berlin:20240612T150000
DTEND;TZID=Europe/Berlin:20240612T180000
DTSTAMP:20260422T132319
CREATED:20240318T143314Z
LAST-MODIFIED:20240524T154257Z
UID:3518-1718204400-1718215200@www.golfyouup.com
SUMMARY:Ltur
DESCRIPTION:-> hier geht es zur Anmeldung!
URL:https://www.golfyouup.com/event/after-work-21/
LOCATION:9-Loch Platz / golfyouup
CATEGORIES:9-Loch Turnier
END:VEVENT
BEGIN:VEVENT
DTSTART;TZID=Europe/Berlin:20240620T150000
DTEND;TZID=Europe/Berlin:20240620T180000
DTSTAMP:20260422T132319
CREATED:20240318T143412Z
LAST-MODIFIED:20240524T154150Z
UID:3521-1718895600-1718906400@www.golfyouup.com
SUMMARY:nine is fine
DESCRIPTION:-> hier geht es zur Anmeldung!
URL:https://www.golfyouup.com/event/nine-is-fine-5/
LOCATION:9-Loch Platz / golfyouup
CATEGORIES:9-Loch Turnier
END:VEVENT
BEGIN:VEVENT
DTSTART;TZID=Europe/Berlin:20240629T090000
DTEND;TZID=Europe/Berlin:20240629T180000
DTSTAMP:20260422T132319
CREATED:20240318T143521Z
LAST-MODIFIED:20240625T083950Z
UID:3524-1719651600-1719684000@www.golfyouup.com
SUMMARY:Summer Day Trophy
DESCRIPTION:-> hier geht es zur Anmeldung!
URL:https://www.golfyouup.com/event/preis-der-mannschaft-3/
LOCATION:9-Loch Platz / golfyouup
CATEGORIES:18-Loch Turnier
END:VEVENT
END:VCALENDAR